BEGIN:VCALENDAR
VERSION:2.0
PRODID:-//RIGHTHERE//CALENDARIZE IT V3.2//EN
BEGIN:VTIMEZONE
TZID:America/Chicago
X-MICROSOFT-CDO-TZID:11
BEGIN:STANDARD
DTSTART:20251102T070000
TZOFFSETFROM:-0500
TZOFFSETTO:-0600
TZNAME:CST
END:STANDARD
BEGIN:DAYLIGHT
DTSTART:20260308T080000
TZOFFSETFROM:-0600
TZOFFSETTO:-0500
TZNAME:CDT
END:DAYLIGHT
BEGIN:STANDARD
DTSTART:20261101T070000
TZOFFSETFROM:-0500
TZOFFSETTO:-0600
TZNAME:CST
END:STANDARD
END:VTIMEZONE
BEGIN:VEVENT
UID:29371-events@bahaius.wpengine.com
DTSTART;TZID=America/Chicago:20241102T123000
DTEND;TZID=America/Chicago:20241102T000000
DTSTAMP;TZID=America/Chicago:20240904T162631
SUMMARY:In-person: Birth of the Báb\, devotional program
URL:https://bahaius.wpengine.com/events/birth-of-the-bab-2024/
END:VEVENT
END:VCALENDAR